Workbook
Name valuevx: Jan!$A$1

Sheet Jan
A1: Hungarian Cultural Society
A3: =UPPER(TEXT(A35,"mmmm yyyy")) -> JANUARY 2015
A4: Sunday | C4: Monday | E4: Tuesday | G4: Wednesday | I4: Thursday | K4: Friday | M4: Saturday
A5: =IF((WEEKDAY($A$35,1)=1),$A$35,"") | C5: =IF((A5=""),IF((WEEKDAY($A$35,1)=2),$A$35,""),(A5+1)) | E5: =IF((C5=""),IF((WEEKDAY($A$35,1)=3),$A$35,""),(C5+1)) | G5: =IF((E5=""),IF((WEEKDAY($A$35,1)=4),$A$35,""),(E5+1)) | I5: =IF((G5=""),IF((WEEKDAY($A$35,1)=5),$A$35,""),(G5+1)) -> 42005 | K5: =IF((I5=""),IF((WEEKDAY($A$35,1)=6),$A$35,""),(I5+1)) -> 42006 | M5: =IF((K5=""),IF((WEEKDAY($A$35,1)=7),$A$35,""),(K5+1)) -> 42007
A6: More Calendars
A7: =HYPERLINK("http://docs.google.com/previewtemplate?id=0As3tAuweYU9QcHlVM3hrY2tocEkzTzkyUWxjcjltVFE","2015 - Portrait") -> 2015 - Portrait
A8: =HYPERLINK("http://docs.google.com/previewtemplate?id=0As3tAuweYU9QcHlVM3hrY2tocEkzYlFhX2hXTlNRSVE","2014 - Portrait") -> 2014 - Portrait
A9: =HYPERLINK("http://docs.google.com/previewtemplate?id=0As3tAuweYU9QcHlVM3hrY2tocEkxSzFMWF9taDViRlE","2014 - Landscape") -> 2014 - Landscape
A10: =M5+1 -> 42008 | C10: =A10+1 -> 42009 | E10: =C10+1 -> 42010 | G10: =E10+1 -> 42011 | I10: =G10+1 -> 42012 | K10: =I10+1 -> 42013 | M10: =K10+1 -> 42014
G12: Vezetőségi
A15: =M10+1 -> 42015 | C15: =A15+1 -> 42016 | E15: =C15+1 -> 42017 | G15: =E15+1 -> 42018 | I15: =G15+1 -> 42019 | K15: =I15+1 -> 42020 | M15: =K15+1 -> 42021
A20: =M15+1 -> 42022 | C20: =A20+1 -> 42023 | E20: =C20+1 -> 42024 | G20: =E20+1 -> 42025 | I20: =G20+1 -> 42026 | K20: =I20+1 -> 42027 | M20: =K20+1 -> 42028
A25: =IF((M20=""),"",IF((MONTH((M20+1))<>MONTH($A$35)),"",(M20+1))) -> 42029 | C25: =IF((A25=""),"",IF((MONTH((A25+1))<>MONTH($A$35)),"",(A25+1))) -> 42030 | E25: =IF((C25=""),"",IF((MONTH((C25+1))<>MONTH($A$35)),"",(C25+1))) -> 42031 | G25: =IF((E25=""),"",IF((MONTH((E25+1))<>MONTH($A$35)),"",(E25+1))) -> 42032 | I25: =IF((G25=""),"",IF((MONTH((G25+1))<>MONTH($A$35)),"",(G25+1))) -> 42033 | K25: =IF((I25=""),"",IF((MONTH((I25+1))<>MONTH($A$35)),"",(I25+1))) -> 42034 | M25: =IF((K25=""),"",IF((MONTH((K25+1))<>MONTH($A$35)),"",(K25+1))) -> 42035
A26: Első Református Egyház
A27: 60 éves évford. Ebéd | M27: 3+2 Jubíleumi
M28: koncert
A30: =IF((M25=""),"",IF((MONTH((M25+1))<>MONTH($A$35)),"",(M25+1))) | C30: =IF((A30=""),"",IF((MONTH((A30+1))<>MONTH($A$35)),"",(A30+1))) | E30: Notes:
E34: © 2012-2014 Vertex42.com | I34: =HYPERLINK("http://www.vertex42.com/calendars/","Calendar Templates by Vertex42.com") -> Calendar Templates by Vertex42.com
A35: 42005

Sheet Feb
A1: =Jan!A1:N1 -> Hungarian Cultural Society
A2: =Jan!A2:N2 -> 0
A3: =UPPER(TEXT(A35,"mmmm yyyy")) -> FEBRUARY 2015
A4: Sunday | C4: Monday | E4: Tuesday | G4: Wednesday | I4: Thursday | K4: Friday | M4: Saturday
A5: =IF((WEEKDAY($A$35,1)=1),$A$35,"") -> 42036 | C5: =IF((A5=""),IF((WEEKDAY($A$35,1)=2),$A$35,""),(A5+1)) -> 42037 | E5: =IF((C5=""),IF((WEEKDAY($A$35,1)=3),$A$35,""),(C5+1)) -> 42038 | G5: =IF((E5=""),IF((WEEKDAY($A$35,1)=4),$A$35,""),(E5+1)) -> 42039 | I5: =IF((G5=""),IF((WEEKDAY($A$35,1)=5),$A$35,""),(G5+1)) -> 42040 | K5: =IF((I5=""),IF((WEEKDAY($A$35,1)=6),$A$35,""),(I5+1)) -> 42041 | M5: =IF((K5=""),IF((WEEKDAY($A$35,1)=7),$A$35,""),(K5+1)) -> 42042
K8: Terembérlet
A10: =M5+1 -> 42043 | C10: =A10+1 -> 42044 | E10: =C10+1 -> 42045 | G10: =E10+1 -> 42046 | I10: =G10+1 -> 42047 | K10: =I10+1 -> 42048 | M10: =K10+1 -> 42049
A11: Zenés Est
A12: Vancouveri Quartett
A15: =M10+1 -> 42050 | C15: =A15+1 -> 42051 | E15: =C15+1 -> 42052 | G15: =E15+1 -> 42053 | I15: =G15+1 -> 42054 | K15: =I15+1 -> 42055 | M15: =K15+1 -> 42056
A17: Éves közgyűlés
A18: Első Református
A19: Egyház
A20: =M15+1 -> 42057 | C20: =A20+1 -> 42058 | E20: =C20+1 -> 42059 | G20: =E20+1 -> 42060 | I20: =G20+1 -> 42061 | K20: =I20+1 -> 42062 | M20: =K20+1 -> 42063
A21: Nosztalgia délután | M21: Farsangi bál &
M22: Disco
A23: Éves közgyűlés
A24: Vancouveri Ref. Egyh.
A25: =IF((M20=""),"",IF((MONTH((M20+1))<>MONTH($A$35)),"",(M20+1))) | C25: =IF((A25=""),"",IF((MONTH((A25+1))<>MONTH($A$35)),"",(A25+1))) | E25: =IF((C25=""),"",IF((MONTH((C25+1))<>MONTH($A$35)),"",(C25+1))) | G25: =IF((E25=""),"",IF((MONTH((E25+1))<>MONTH($A$35)),"",(E25+1))) | I25: =IF((G25=""),"",IF((MONTH((G25+1))<>MONTH($A$35)),"",(G25+1))) | K25: =IF((I25=""),"",IF((MONTH((I25+1))<>MONTH($A$35)),"",(I25+1))) | M25: =IF((K25=""),"",IF((MONTH((K25+1))<>MONTH($A$35)),"",(K25+1)))
A30: =IF((M25=""),"",IF((MONTH((M25+1))<>MONTH($A$35)),"",(M25+1))) | C30: =IF((A30=""),"",IF((MONTH((A30+1))<>MONTH($A$35)),"",(A30+1))) | E30: Notes:
E34: © 2012-2014 Vertex42.com | I34: =HYPERLINK("http://www.vertex42.com/calendars/","Calendar Templates by Vertex42.com") -> Calendar Templates by Vertex42.com
A35: =DATE(YEAR(Jan!A35),2,1) -> 42036

Sheet Mar
A1: =Jan!A1:N1 -> Hungarian Cultural Society
A2: =Jan!A2:N2 -> 0
A3: =UPPER(TEXT(A35,"mmmm yyyy")) -> MARCH 2015
A4: Sunday | C4: Monday | E4: Tuesday | G4: Wednesday | I4: Thursday | K4: Friday | M4: Saturday
A5: =IF((WEEKDAY($A$35,1)=1),$A$35,"") -> 42064 | C5: =IF((A5=""),IF((WEEKDAY($A$35,1)=2),$A$35,""),(A5+1)) -> 42065 | E5: =IF((C5=""),IF((WEEKDAY($A$35,1)=3),$A$35,""),(C5+1)) -> 42066 | G5: =IF((E5=""),IF((WEEKDAY($A$35,1)=4),$A$35,""),(E5+1)) -> 42067 | I5: =IF((G5=""),IF((WEEKDAY($A$35,1)=5),$A$35,""),(G5+1)) -> 42068 | K5: =IF((I5=""),IF((WEEKDAY($A$35,1)=6),$A$35,""),(I5+1)) -> 42069 | M5: =IF((K5=""),IF((WEEKDAY($A$35,1)=7),$A$35,""),(K5+1)) -> 42070
M7: Rajko
M8: zenekar
A10: =M5+1 -> 42071 | C10: =A10+1 -> 42072 | E10: =C10+1 -> 42073 | G10: =E10+1 -> 42074 | I10: =G10+1 -> 42075 | K10: =I10+1 -> 42076 | M10: =K10+1 -> 42077
A11: Magyar Fórum | M11: Bazaar, Első Ref.Egyh.
M13: Főpróba,
G14: Színház, próba | M14: díszítés
A15: =M10+1 -> 42078 | C15: =A15+1 -> 42079 | E15: =C15+1 -> 42080 | G15: =E15+1 -> 42081 | I15: =G15+1 -> 42082 | K15: =I15+1 -> 42083 | M15: =K15+1 -> 42084
A16: Március 15. | M16: Bazaar
A17: Ünnepség
A20: =M15+1 -> 42085 | C20: =A20+1 -> 42086 | E20: =C20+1 -> 42087 | G20: =E20+1 -> 42088 | I20: =G20+1 -> 42089 | K20: =I20+1 -> 42090 | M20: =K20+1 -> 42091
M21: Vancouveri Ref. Egyh.
A22: Bábszinház | M22: Bazaar
A25: =IF((M20=""),"",IF((MONTH((M20+1))<>MONTH($A$35)),"",(M20+1))) -> 42092 | C25: =IF((A25=""),"",IF((MONTH((A25+1))<>MONTH($A$35)),"",(A25+1))) -> 42093 | E25: =IF((C25=""),"",IF((MONTH((C25+1))<>MONTH($A$35)),"",(C25+1))) -> 42094 | G25: =IF((E25=""),"",IF((MONTH((E25+1))<>MONTH($A$35)),"",(E25+1))) | I25: =IF((G25=""),"",IF((MONTH((G25+1))<>MONTH($A$35)),"",(G25+1))) | K25: =IF((I25=""),"",IF((MONTH((I25+1))<>MONTH($A$35)),"",(I25+1))) | M25: =IF((K25=""),"",IF((MONTH((K25+1))<>MONTH($A$35)),"",(K25+1)))
A26: Missziói Nap
A27: Első Ref.Egyh.
A30: =IF((M25=""),"",IF((MONTH((M25+1))<>MONTH($A$35)),"",(M25+1))) | C30: =IF((A30=""),"",IF((MONTH((A30+1))<>MONTH($A$35)),"",(A30+1))) | E30: Notes:
E34: © 2012-2014 Vertex42.com | I34: =HYPERLINK("http://www.vertex42.com/calendars/","Calendar Templates by Vertex42.com") -> Calendar Templates by Vertex42.com
A35: =DATE(YEAR(Jan!A35),3,1) -> 42064

Sheet Apr
A1: =Jan!A1:N1 -> Hungarian Cultural Society
A2: =Jan!A2:N2 -> 0
A3: =UPPER(TEXT(A35,"mmmm yyyy")) -> APRIL 2015
A4: Sunday | C4: Monday | E4: Tuesday | G4: Wednesday | I4: Thursday | K4: Friday | M4: Saturday
A5: =IF((WEEKDAY($A$35,1)=1),$A$35,"") | C5: =IF((A5=""),IF((WEEKDAY($A$35,1)=2),$A$35,""),(A5+1)) | E5: =IF((C5=""),IF((WEEKDAY($A$35,1)=3),$A$35,""),(C5+1)) | G5: =IF((E5=""),IF((WEEKDAY($A$35,1)=4),$A$35,""),(E5+1)) -> 42095 | I5: =IF((G5=""),IF((WEEKDAY($A$35,1)=5),$A$35,""),(G5+1)) -> 42096 | K5: =IF((I5=""),IF((WEEKDAY($A$35,1)=6),$A$35,""),(I5+1)) -> 42097 | M5: =IF((K5=""),IF((WEEKDAY($A$35,1)=7),$A$35,""),(K5+1)) -> 42098
K8: Nagypéntek
A10: =M5+1 -> 42099 | C10: =A10+1 -> 42100 | E10: =C10+1 -> 42101 | G10: =E10+1 -> 42102 | I10: =G10+1 -> 42103 | K10: =I10+1 -> 42104 | M10: =K10+1 -> 42105
A12: Husvét Vasárnap | C12: Húsvét Hétfő
M13: Steve Savanya
M14: Zenes versek
A15: =M10+1 -> 42106 | C15: =A15+1 -> 42107 | E15: =C15+1 -> 42108 | G15: =E15+1 -> 42109 | I15: =G15+1 -> 42110 | K15: =I15+1 -> 42111 | M15: =K15+1 -> 42112
A16: Taggyűlés
A17: MH
A20: =M15+1 -> 42113 | C20: =A20+1 -> 42114 | E20: =C20+1 -> 42115 | G20: =E20+1 -> 42116 | I20: =G20+1 -> 42117 | K20: =I20+1 -> 42118 | M20: =K20+1 -> 42119
K21: 70 éves évford. | M21: 70 éves
K22: kiállítás | M22: jubileum
A25: =IF((M20=""),"",IF((MONTH((M20+1))<>MONTH($A$35)),"",(M20+1))) -> 42120 | C25: =IF((A25=""),"",IF((MONTH((A25+1))<>MONTH($A$35)),"",(A25+1))) -> 42121 | E25: =IF((C25=""),"",IF((MONTH((C25+1))<>MONTH($A$35)),"",(C25+1))) -> 42122 | G25: =IF((E25=""),"",IF((MONTH((E25+1))<>MONTH($A$35)),"",(E25+1))) -> 42123 | I25: =IF((G25=""),"",IF((MONTH((G25+1))<>MONTH($A$35)),"",(G25+1))) -> 42124 | K25: =IF((I25=""),"",IF((MONTH((I25+1))<>MONTH($A$35)),"",(I25+1))) | M25: =IF((K25=""),"",IF((MONTH((K25+1))<>MONTH($A$35)),"",(K25+1)))
A26: Első Ref. Egyh.
A27: 60 éves évforduló
A28: rendezvény
A30: =IF((M25=""),"",IF((MONTH((M25+1))<>MONTH($A$35)),"",(M25+1))) | C30: =IF((A30=""),"",IF((MONTH((A30+1))<>MONTH($A$35)),"",(A30+1))) | E30: Notes:
F31: 70 éves évforduló (nagykövet látogatásakor)??? Dátum még tisztázott
E34: © 2012-2014 Vertex42.com | I34: =HYPERLINK("http://www.vertex42.com/calendars/","Calendar Templates by Vertex42.com") -> Calendar Templates by Vertex42.com
A35: =DATE(YEAR(Jan!A35),4,1) -> 42095

Sheet May
A1: =Jan!A1:N1 -> Hungarian Cultural Society
A2: =Jan!A2:N2 -> 0
A3: =UPPER(TEXT(A35,"mmmm yyyy")) -> MAY 2015
A4: Sunday | C4: Monday | E4: Tuesday | G4: Wednesday | I4: Thursday | K4: Friday | M4: Saturday
A5: =IF((WEEKDAY($A$35,1)=1),$A$35,"") | C5: =IF((A5=""),IF((WEEKDAY($A$35,1)=2),$A$35,""),(A5+1)) | E5: =IF((C5=""),IF((WEEKDAY($A$35,1)=3),$A$35,""),(C5+1)) | G5: =IF((E5=""),IF((WEEKDAY($A$35,1)=4),$A$35,""),(E5+1)) | I5: =IF((G5=""),IF((WEEKDAY($A$35,1)=5),$A$35,""),(G5+1)) | K5: =IF((I5=""),IF((WEEKDAY($A$35,1)=6),$A$35,""),(I5+1)) -> 42125 | M5: =IF((K5=""),IF((WEEKDAY($A$35,1)=7),$A$35,""),(K5+1)) -> 42126
A10: =M5+1 -> 42127 | C10: =A10+1 -> 42128 | E10: =C10+1 -> 42129 | G10: =E10+1 -> 42130 | I10: =G10+1 -> 42131 | K10: =I10+1 -> 42132 | M10: =K10+1 -> 42133
A11: Vancouveru Ref. Egyh. | M11: Európa nap
A12: Évford. + Anyák napja
A15: =M10+1 -> 42134 | C15: =A15+1 -> 42135 | E15: =C15+1 -> 42136 | G15: =E15+1 -> 42137 | I15: =G15+1 -> 42138 | K15: =I15+1 -> 42139 | M15: =K15+1 -> 42140
A16: Első Ref.Egyh.
A17: Anyák napja
A20: =M15+1 -> 42141 | C20: =A20+1 -> 42142 | E20: =C20+1 -> 42143 | G20: =E20+1 -> 42144 | I20: =G20+1 -> 42145 | K20: =I20+1 -> 42146 | M20: =K20+1 -> 42147
K21: Főpróba | M21: Szinház
A25: =IF((M20=""),"",IF((MONTH((M20+1))<>MONTH($A$35)),"",(M20+1))) -> 42148 | C25: =IF((A25=""),"",IF((MONTH((A25+1))<>MONTH($A$35)),"",(A25+1))) -> 42149 | E25: =IF((C25=""),"",IF((MONTH((C25+1))<>MONTH($A$35)),"",(C25+1))) -> 42150 | G25: =IF((E25=""),"",IF((MONTH((E25+1))<>MONTH($A$35)),"",(E25+1))) -> 42151 | I25: =IF((G25=""),"",IF((MONTH((G25+1))<>MONTH($A$35)),"",(G25+1))) -> 42152 | K25: =IF((I25=""),"",IF((MONTH((I25+1))<>MONTH($A$35)),"",(I25+1))) -> 42153 | M25: =IF((K25=""),"",IF((MONTH((K25+1))<>MONTH($A$35)),"",(K25+1))) -> 42154
A26: Szinház | M26: Eurofest
A30: =IF((M25=""),"",IF((MONTH((M25+1))<>MONTH($A$35)),"",(M25+1))) -> 42155 | C30: =IF((A30=""),"",IF((MONTH((A30+1))<>MONTH($A$35)),"",(A30+1))) | E30: Notes:
A31: Eurofest
E34: © 2012-2014 Vertex42.com | I34: =HYPERLINK("http://www.vertex42.com/calendars/","Calendar Templates by Vertex42.com") -> Calendar Templates by Vertex42.com
A35: =DATE(YEAR(Jan!A35),5,1) -> 42125

Sheet Jun
A1: =Jan!A1:N1 -> Hungarian Cultural Society
A2: =Jan!A2:N2 -> 0
A3: =UPPER(TEXT(A35,"mmmm yyyy")) -> JUNE 2015
A4: Sunday | C4: Monday | E4: Tuesday | G4: Wednesday | I4: Thursday | K4: Friday | M4: Saturday
A5: =IF((WEEKDAY($A$35,1)=1),$A$35,"") | C5: =IF((A5=""),IF((WEEKDAY($A$35,1)=2),$A$35,""),(A5+1)) -> 42156 | E5: =IF((C5=""),IF((WEEKDAY($A$35,1)=3),$A$35,""),(C5+1)) -> 42157 | G5: =IF((E5=""),IF((WEEKDAY($A$35,1)=4),$A$35,""),(E5+1)) -> 42158 | I5: =IF((G5=""),IF((WEEKDAY($A$35,1)=5),$A$35,""),(G5+1)) -> 42159 | K5: =IF((I5=""),IF((WEEKDAY($A$35,1)=6),$A$35,""),(I5+1)) -> 42160 | M5: =IF((K5=""),IF((WEEKDAY($A$35,1)=7),$A$35,""),(K5+1)) -> 42161
A10: =M5+1 -> 42162 | C10: =A10+1 -> 42163 | E10: =C10+1 -> 42164 | G10: =E10+1 -> 42165 | I10: =G10+1 -> 42166 | K10: =I10+1 -> 42167 | M10: =K10+1 -> 42168
A12: Trianon
A15: =M10+1 -> 42169 | C15: =A15+1 -> 42170 | E15: =C15+1 -> 42171 | G15: =E15+1 -> 42172 | I15: =G15+1 -> 42173 | K15: =I15+1 -> 42174 | M15: =K15+1 -> 42175
A20: =M15+1 -> 42176 | C20: =A20+1 -> 42177 | E20: =C20+1 -> 42178 | G20: =E20+1 -> 42179 | I20: =G20+1 -> 42180 | K20: =I20+1 -> 42181 | M20: =K20+1 -> 42182
A21: Apák napja
A22: tanév záró | M22: Open House
A23: Első Ref. Egyh.
A25: =IF((M20=""),"",IF((MONTH((M20+1))<>MONTH($A$35)),"",(M20+1))) -> 42183 | C25: =IF((A25=""),"",IF((MONTH((A25+1))<>MONTH($A$35)),"",(A25+1))) -> 42184 | E25: =IF((C25=""),"",IF((MONTH((C25+1))<>MONTH($A$35)),"",(C25+1))) -> 42185 | G25: =IF((E25=""),"",IF((MONTH((E25+1))<>MONTH($A$35)),"",(E25+1))) | I25: =IF((G25=""),"",IF((MONTH((G25+1))<>MONTH($A$35)),"",(G25+1))) | K25: =IF((I25=""),"",IF((MONTH((I25+1))<>MONTH($A$35)),"",(I25+1))) | M25: =IF((K25=""),"",IF((MONTH((K25+1))<>MONTH($A$35)),"",(K25+1)))
A30: =IF((M25=""),"",IF((MONTH((M25+1))<>MONTH($A$35)),"",(M25+1))) | C30: =IF((A30=""),"",IF((MONTH((A30+1))<>MONTH($A$35)),"",(A30+1))) | E30: Notes:
E34: © 2012-2014 Vertex42.com | I34: =HYPERLINK("http://www.vertex42.com/calendars/","Calendar Templates by Vertex42.com") -> Calendar Templates by Vertex42.com
A35: =DATE(YEAR(Jan!A35),6,1) -> 42156

Sheet Jul
A1: =Jan!A1:N1 -> Hungarian Cultural Society
A2: =Jan!A2:N2 -> 0
A3: =UPPER(TEXT(A35,"mmmm yyyy")) -> JULY 2015
A4: Sunday | C4: Monday | E4: Tuesday | G4: Wednesday | I4: Thursday | K4: Friday | M4: Saturday
A5: =IF((WEEKDAY($A$35,1)=1),$A$35,"") | C5: =IF((A5=""),IF((WEEKDAY($A$35,1)=2),$A$35,""),(A5+1)) | E5: =IF((C5=""),IF((WEEKDAY($A$35,1)=3),$A$35,""),(C5+1)) | G5: =IF((E5=""),IF((WEEKDAY($A$35,1)=4),$A$35,""),(E5+1)) -> 42186 | I5: =IF((G5=""),IF((WEEKDAY($A$35,1)=5),$A$35,""),(G5+1)) -> 42187 | K5: =IF((I5=""),IF((WEEKDAY($A$35,1)=6),$A$35,""),(I5+1)) -> 42188 | M5: =IF((K5=""),IF((WEEKDAY($A$35,1)=7),$A$35,""),(K5+1)) -> 42189
A10: =M5+1 -> 42190 | C10: =A10+1 -> 42191 | E10: =C10+1 -> 42192 | G10: =E10+1 -> 42193 | I10: =G10+1 -> 42194 | K10: =I10+1 -> 42195 | M10: =K10+1 -> 42196
A11: Katolikus piknik
A15: =M10+1 -> 42197 | C15: =A15+1 -> 42198 | E15: =C15+1 -> 42199 | G15: =E15+1 -> 42200 | I15: =G15+1 -> 42201 | K15: =I15+1 -> 42202 | M15: =K15+1 -> 42203
A20: =M15+1 -> 42204 | C20: =A20+1 -> 42205 | E20: =C20+1 -> 42206 | G20: =E20+1 -> 42207 | I20: =G20+1 -> 42208 | K20: =I20+1 -> 42209 | M20: =K20+1 -> 42210
A22: Piknik
A25: =IF((M20=""),"",IF((MONTH((M20+1))<>MONTH($A$35)),"",(M20+1))) -> 42211 | C25: =IF((A25=""),"",IF((MONTH((A25+1))<>MONTH($A$35)),"",(A25+1))) -> 42212 | E25: =IF((C25=""),"",IF((MONTH((C25+1))<>MONTH($A$35)),"",(C25+1))) -> 42213 | G25: =IF((E25=""),"",IF((MONTH((E25+1))<>MONTH($A$35)),"",(E25+1))) -> 42214 | I25: =IF((G25=""),"",IF((MONTH((G25+1))<>MONTH($A$35)),"",(G25+1))) -> 42215 | K25: =IF((I25=""),"",IF((MONTH((I25+1))<>MONTH($A$35)),"",(I25+1))) -> 42216 | M25: =IF((K25=""),"",IF((MONTH((K25+1))<>MONTH($A$35)),"",(K25+1)))
A27: Első Ref.Egyh.
A28: piknik
A30: =IF((M25=""),"",IF((MONTH((M25+1))<>MONTH($A$35)),"",(M25+1))) | C30: =IF((A30=""),"",IF((MONTH((A30+1))<>MONTH($A$35)),"",(A30+1))) | E30: Notes:
E34: © 2012-2014 Vertex42.com | I34: =HYPERLINK("http://www.vertex42.com/calendars/","Calendar Templates by Vertex42.com") -> Calendar Templates by Vertex42.com
A35: =DATE(YEAR(Jan!A35),7,1) -> 42186

Sheet Aug
A1: =Jan!A1:N1 -> Hungarian Cultural Society
A2: =Jan!A2:N2 -> 0
A3: =UPPER(TEXT(A35,"mmmm yyyy")) -> AUGUST 2015
A4: Sunday | C4: Monday | E4: Tuesday | G4: Wednesday | I4: Thursday | K4: Friday | M4: Saturday
A5: =IF((WEEKDAY($A$35,1)=1),$A$35,"") | C5: =IF((A5=""),IF((WEEKDAY($A$35,1)=2),$A$35,""),(A5+1)) | E5: =IF((C5=""),IF((WEEKDAY($A$35,1)=3),$A$35,""),(C5+1)) | G5: =IF((E5=""),IF((WEEKDAY($A$35,1)=4),$A$35,""),(E5+1)) | I5: =IF((G5=""),IF((WEEKDAY($A$35,1)=5),$A$35,""),(G5+1)) | K5: =IF((I5=""),IF((WEEKDAY($A$35,1)=6),$A$35,""),(I5+1)) | M5: =IF((K5=""),IF((WEEKDAY($A$35,1)=7),$A$35,""),(K5+1)) -> 42217
A10: =M5+1 -> 42218 | C10: =A10+1 -> 42219 | E10: =C10+1 -> 42220 | G10: =E10+1 -> 42221 | I10: =G10+1 -> 42222 | K10: =I10+1 -> 42223 | M10: =K10+1 -> 42224
A11: Vancouveru Ref. Egyh.
A12: piknik
A15: =M10+1 -> 42225 | C15: =A15+1 -> 42226 | E15: =C15+1 -> 42227 | G15: =E15+1 -> 42228 | I15: =G15+1 -> 42229 | K15: =I15+1 -> 42230 | M15: =K15+1 -> 42231
A20: =M15+1 -> 42232 | C20: =A20+1 -> 42233 | E20: =C20+1 -> 42234 | G20: =E20+1 -> 42235 | I20: =G20+1 -> 42236 | K20: =I20+1 -> 42237 | M20: =K20+1 -> 42238
A22: Augusztus 20. | M22: Kiállítás
A23: Ünnepség | M23: képek kirakása
A25: =IF((M20=""),"",IF((MONTH((M20+1))<>MONTH($A$35)),"",(M20+1))) -> 42239 | C25: =IF((A25=""),"",IF((MONTH((A25+1))<>MONTH($A$35)),"",(A25+1))) -> 42240 | E25: =IF((C25=""),"",IF((MONTH((C25+1))<>MONTH($A$35)),"",(C25+1))) -> 42241 | G25: =IF((E25=""),"",IF((MONTH((E25+1))<>MONTH($A$35)),"",(E25+1))) -> 42242 | I25: =IF((G25=""),"",IF((MONTH((G25+1))<>MONTH($A$35)),"",(G25+1))) -> 42243 | K25: =IF((I25=""),"",IF((MONTH((I25+1))<>MONTH($A$35)),"",(I25+1))) -> 42244 | M25: =IF((K25=""),"",IF((MONTH((K25+1))<>MONTH($A$35)),"",(K25+1))) -> 42245
A26: Kiállítás meg- | C26: Kiállítás 6 - 9 p.m. | E26: Kiállítás 6 - 9 p.m. | G26: Kiállítás 6 - 9 p.m. | I26: Kiállítás 6 - 9 p.m. | K26: Kiállítás 6 - 9 p.m. | M26: Kiállítás 6 - 9 p.m.
A27: nyitó
C28: gyerek tábor ???? | E28: gyerek tábor ???? | G28: gyerek tábor ??? | I28: gyerek tábor ??? | K28: gyerek tábor ???
C29: Első Ref. Egyh. | E29: Első Ref. Egyh. | G29: Első Ref. Egyh. | I29: Első Ref. Egyh. | K29: Első Ref. Egyh.
A30: =IF((M25=""),"",IF((MONTH((M25+1))<>MONTH($A$35)),"",(M25+1))) -> 42246 | C30: =IF((A30=""),"",IF((MONTH((A30+1))<>MONTH($A$35)),"",(A30+1))) -> 42247 | E30: Notes:
A31: Kiállítás 6 - 9 p.m. | C31: gyerek tábor
C32: Első Ref. Egyh.
E34: © 2012-2014 Vertex42.com | I34: =HYPERLINK("http://www.vertex42.com/calendars/","Calendar Templates by Vertex42.com") -> Calendar Templates by Vertex42.com
A35: =DATE(YEAR(Jan!A35),8,1) -> 42217

Sheet Sep
A1: =Jan!A1:N1 -> Hungarian Cultural Society
A2: =Jan!A2:N2 -> 0
A3: =UPPER(TEXT(A35,"mmmm yyyy")) -> SEPTEMBER 2015
A4: Sunday | C4: Monday | E4: Tuesday | G4: Wednesday | I4: Thursday | K4: Friday | M4: Saturday
A5: =IF((WEEKDAY($A$35,1)=1),$A$35,"") | C5: =IF((A5=""),IF((WEEKDAY($A$35,1)=2),$A$35,""),(A5+1)) | E5: =IF((C5=""),IF((WEEKDAY($A$35,1)=3),$A$35,""),(C5+1)) -> 42248 | G5: =IF((E5=""),IF((WEEKDAY($A$35,1)=4),$A$35,""),(E5+1)) -> 42249 | I5: =IF((G5=""),IF((WEEKDAY($A$35,1)=5),$A$35,""),(G5+1)) -> 42250 | K5: =IF((I5=""),IF((WEEKDAY($A$35,1)=6),$A$35,""),(I5+1)) -> 42251 | M5: =IF((K5=""),IF((WEEKDAY($A$35,1)=7),$A$35,""),(K5+1)) -> 42252
E6: gyerek tábor ??? | G6: gyerek tábor ???? | I6: gyerek tábor ???? | K6: gyerek tábor ????
E7: Első Ref. Egyh. | G7: Első Ref. Egyh. | I7: Első Ref. Egyh. | K7: Első Ref. Egyh.
A10: =M5+1 -> 42253 | C10: =A10+1 -> 42254 | E10: =C10+1 -> 42255 | G10: =E10+1 -> 42256 | I10: =G10+1 -> 42257 | K10: =I10+1 -> 42258 | M10: =K10+1 -> 42259
M12: Szüreti Bál
A15: =M10+1 -> 42260 | C15: =A15+1 -> 42261 | E15: =C15+1 -> 42262 | G15: =E15+1 -> 42263 | I15: =G15+1 -> 42264 | K15: =I15+1 -> 42265 | M15: =K15+1 -> 42266
A16: Szinház
A17: Szabados Misi
A20: =M15+1 -> 42267 | C20: =A20+1 -> 42268 | E20: =C20+1 -> 42269 | G20: =E20+1 -> 42270 | I20: =G20+1 -> 42271 | K20: =I20+1 -> 42272 | M20: =K20+1 -> 42273
A21: Tanévnyitó ebéddel
A22: Első Ref. Egyh.
A25: =IF((M20=""),"",IF((MONTH((M20+1))<>MONTH($A$35)),"",(M20+1))) -> 42274 | C25: =IF((A25=""),"",IF((MONTH((A25+1))<>MONTH($A$35)),"",(A25+1))) -> 42275 | E25: =IF((C25=""),"",IF((MONTH((C25+1))<>MONTH($A$35)),"",(C25+1))) -> 42276 | G25: =IF((E25=""),"",IF((MONTH((E25+1))<>MONTH($A$35)),"",(E25+1))) -> 42277 | I25: =IF((G25=""),"",IF((MONTH((G25+1))<>MONTH($A$35)),"",(G25+1))) | K25: =IF((I25=""),"",IF((MONTH((I25+1))<>MONTH($A$35)),"",(I25+1))) | M25: =IF((K25=""),"",IF((MONTH((K25+1))<>MONTH($A$35)),"",(K25+1)))
A30: =IF((M25=""),"",IF((MONTH((M25+1))<>MONTH($A$35)),"",(M25+1))) | C30: =IF((A30=""),"",IF((MONTH((A30+1))<>MONTH($A$35)),"",(A30+1))) | E30: Notes:
F31: gyerektábor ideje az iskola kezdéstől függ
E34: © 2012-2014 Vertex42.com | I34: =HYPERLINK("http://www.vertex42.com/calendars/","Calendar Templates by Vertex42.com") -> Calendar Templates by Vertex42.com
A35: =DATE(YEAR(Jan!A35),9,1) -> 42248

Sheet Oct
A1: =Jan!A1:N1 -> Hungarian Cultural Society
A2: =Jan!A2:N2 -> 0
A3: =UPPER(TEXT(A35,"mmmm yyyy")) -> OCTOBER 2015
A4: Sunday | C4: Monday | E4: Tuesday | G4: Wednesday | I4: Thursday | K4: Friday | M4: Saturday
A5: =IF((WEEKDAY($A$35,1)=1),$A$35,"") | C5: =IF((A5=""),IF((WEEKDAY($A$35,1)=2),$A$35,""),(A5+1)) | E5: =IF((C5=""),IF((WEEKDAY($A$35,1)=3),$A$35,""),(C5+1)) | G5: =IF((E5=""),IF((WEEKDAY($A$35,1)=4),$A$35,""),(E5+1)) | I5: =IF((G5=""),IF((WEEKDAY($A$35,1)=5),$A$35,""),(G5+1)) -> 42278 | K5: =IF((I5=""),IF((WEEKDAY($A$35,1)=6),$A$35,""),(I5+1)) -> 42279 | M5: =IF((K5=""),IF((WEEKDAY($A$35,1)=7),$A$35,""),(K5+1)) -> 42280
A10: =M5+1 -> 42281 | C10: =A10+1 -> 42282 | E10: =C10+1 -> 42283 | G10: =E10+1 -> 42284 | I10: =G10+1 -> 42285 | K10: =I10+1 -> 42286 | M10: =K10+1 -> 42287
A11: Katolikus Búcsú
A15: =M10+1 -> 42288 | C15: =A15+1 -> 42289 | E15: =C15+1 -> 42290 | G15: =E15+1 -> 42291 | I15: =G15+1 -> 42292 | K15: =I15+1 -> 42293 | M15: =K15+1 -> 42294
A16: Vancouver Ref. Egyh. | M16: Vadász Bál
A17: rendezvény
A20: =M15+1 -> 42295 | C20: =A20+1 -> 42296 | E20: =C20+1 -> 42297 | G20: =E20+1 -> 42298 | I20: =G20+1 -> 42299 | K20: =I20+1 -> 42300 | M20: =K20+1 -> 42301
A21: Csendes Nap | M21: Bábszinház
A22: Első Ref. Egyh.
A25: =IF((M20=""),"",IF((MONTH((M20+1))<>MONTH($A$35)),"",(M20+1))) -> 42302 | C25: =IF((A25=""),"",IF((MONTH((A25+1))<>MONTH($A$35)),"",(A25+1))) -> 42303 | E25: =IF((C25=""),"",IF((MONTH((C25+1))<>MONTH($A$35)),"",(C25+1))) -> 42304 | G25: =IF((E25=""),"",IF((MONTH((E25+1))<>MONTH($A$35)),"",(E25+1))) -> 42305 | I25: =IF((G25=""),"",IF((MONTH((G25+1))<>MONTH($A$35)),"",(G25+1))) -> 42306 | K25: =IF((I25=""),"",IF((MONTH((I25+1))<>MONTH($A$35)),"",(I25+1))) -> 42307 | M25: =IF((K25=""),"",IF((MONTH((K25+1))<>MONTH($A$35)),"",(K25+1))) -> 42308
A27: Október 23.
A28: Megemlékezés
A30: =IF((M25=""),"",IF((MONTH((M25+1))<>MONTH($A$35)),"",(M25+1))) | C30: =IF((A30=""),"",IF((MONTH((A30+1))<>MONTH($A$35)),"",(A30+1))) | E30: Notes:
E34: © 2012-2014 Vertex42.com | I34: =HYPERLINK("http://www.vertex42.com/calendars/","Calendar Templates by Vertex42.com") -> Calendar Templates by Vertex42.com
A35: =DATE(YEAR(Jan!A35),10,1) -> 42278

Sheet Nov
A1: =Jan!A1:N1 -> Hungarian Cultural Society
A2: =Jan!A2:N2 -> 0
A3: =UPPER(TEXT(A35,"mmmm yyyy")) -> NOVEMBER 2015
A4: Sunday | C4: Monday | E4: Tuesday | G4: Wednesday | I4: Thursday | K4: Friday | M4: Saturday
A5: =IF((WEEKDAY($A$35,1)=1),$A$35,"") -> 42309 | C5: =IF((A5=""),IF((WEEKDAY($A$35,1)=2),$A$35,""),(A5+1)) -> 42310 | E5: =IF((C5=""),IF((WEEKDAY($A$35,1)=3),$A$35,""),(C5+1)) -> 42311 | G5: =IF((E5=""),IF((WEEKDAY($A$35,1)=4),$A$35,""),(E5+1)) -> 42312 | I5: =IF((G5=""),IF((WEEKDAY($A$35,1)=5),$A$35,""),(G5+1)) -> 42313 | K5: =IF((I5=""),IF((WEEKDAY($A$35,1)=6),$A$35,""),(I5+1)) -> 42314 | M5: =IF((K5=""),IF((WEEKDAY($A$35,1)=7),$A$35,""),(K5+1)) -> 42315
A6: Ünnepi Ebéd
A7: Első Ref. Egyh. | M7: Bazár
A10: =M5+1 -> 42316 | C10: =A10+1 -> 42317 | E10: =C10+1 -> 42318 | G10: =E10+1 -> 42319 | I10: =G10+1 -> 42320 | K10: =I10+1 -> 42321 | M10: =K10+1 -> 42322
K12: Szinház | M12: Szinház
K13: Főpróba
A15: =M10+1 -> 42323 | C15: =A15+1 -> 42324 | E15: =C15+1 -> 42325 | G15: =E15+1 -> 42326 | I15: =G15+1 -> 42327 | K15: =I15+1 -> 42328 | M15: =K15+1 -> 42329
M16: Katolikus Búcsú
A17: Szinház
A20: =M15+1 -> 42330 | C20: =A20+1 -> 42331 | E20: =C20+1 -> 42332 | G20: =E20+1 -> 42333 | I20: =G20+1 -> 42334 | K20: =I20+1 -> 42335 | M20: =K20+1 -> 42336
M21: Első Ref. Egyh.
A22: Közgyűlés | M22: Bazaar
A25: =IF((M20=""),"",IF((MONTH((M20+1))<>MONTH($A$35)),"",(M20+1))) -> 42337 | C25: =IF((A25=""),"",IF((MONTH((A25+1))<>MONTH($A$35)),"",(A25+1))) -> 42338 | E25: =IF((C25=""),"",IF((MONTH((C25+1))<>MONTH($A$35)),"",(C25+1))) | G25: =IF((E25=""),"",IF((MONTH((E25+1))<>MONTH($A$35)),"",(E25+1))) | I25: =IF((G25=""),"",IF((MONTH((G25+1))<>MONTH($A$35)),"",(G25+1))) | K25: =IF((I25=""),"",IF((MONTH((I25+1))<>MONTH($A$35)),"",(I25+1))) | M25: =IF((K25=""),"",IF((MONTH((K25+1))<>MONTH($A$35)),"",(K25+1)))
A30: =IF((M25=""),"",IF((MONTH((M25+1))<>MONTH($A$35)),"",(M25+1))) | C30: =IF((A30=""),"",IF((MONTH((A30+1))<>MONTH($A$35)),"",(A30+1))) | E30: Notes:
E34: © 2012-2014 Vertex42.com | I34: =HYPERLINK("http://www.vertex42.com/calendars/","Calendar Templates by Vertex42.com") -> Calendar Templates by Vertex42.com
A35: =DATE(YEAR(Jan!A35),11,1) -> 42309

Sheet Dec
A1: =Jan!A1:N1 -> Hungarian Cultural Society
A2: =Jan!A2:N2 -> 0
A3: =UPPER(TEXT(A35,"mmmm yyyy")) -> DECEMBER 2015
A4: Sunday | C4: Monday | E4: Tuesday | G4: Wednesday | I4: Thursday | K4: Friday | M4: Saturday
A5: =IF((WEEKDAY($A$35,1)=1),$A$35,"") | C5: =IF((A5=""),IF((WEEKDAY($A$35,1)=2),$A$35,""),(A5+1)) | E5: =IF((C5=""),IF((WEEKDAY($A$35,1)=3),$A$35,""),(C5+1)) -> 42339 | G5: =IF((E5=""),IF((WEEKDAY($A$35,1)=4),$A$35,""),(E5+1)) -> 42340 | I5: =IF((G5=""),IF((WEEKDAY($A$35,1)=5),$A$35,""),(G5+1)) -> 42341 | K5: =IF((I5=""),IF((WEEKDAY($A$35,1)=6),$A$35,""),(I5+1)) -> 42342 | M5: =IF((K5=""),IF((WEEKDAY($A$35,1)=7),$A$35,""),(K5+1)) -> 42343
M6: Bazaar
M7: Vancouver Ref.Egyh.
A10: =M5+1 -> 42344 | C10: =A10+1 -> 42345 | E10: =C10+1 -> 42346 | G10: =E10+1 -> 42347 | I10: =G10+1 -> 42348 | K10: =I10+1 -> 42349 | M10: =K10+1 -> 42350
M11: Minden Magyarok
A12: Mikulás | M12: Karácsonya
A15: =M10+1 -> 42351 | C15: =A15+1 -> 42352 | E15: =C15+1 -> 42353 | G15: =E15+1 -> 42354 | I15: =G15+1 -> 42355 | K15: =I15+1 -> 42356 | M15: =K15+1 -> 42357
A16: Katolikus Karácsony
A20: =M15+1 -> 42358 | C20: =A20+1 -> 42359 | E20: =C20+1 -> 42360 | G20: =E20+1 -> 42361 | I20: =G20+1 -> 42362 | K20: =I20+1 -> 42363 | M20: =K20+1 -> 42364
A21: Első Ref.Egyh. MH
A22: Vancouveri Ref.Egyh.
A23: Karácsony
A25: =IF((M20=""),"",IF((MONTH((M20+1))<>MONTH($A$35)),"",(M20+1))) -> 42365 | C25: =IF((A25=""),"",IF((MONTH((A25+1))<>MONTH($A$35)),"",(A25+1))) -> 42366 | E25: =IF((C25=""),"",IF((MONTH((C25+1))<>MONTH($A$35)),"",(C25+1))) -> 42367 | G25: =IF((E25=""),"",IF((MONTH((E25+1))<>MONTH($A$35)),"",(E25+1))) -> 42368 | I25: =IF((G25=""),"",IF((MONTH((G25+1))<>MONTH($A$35)),"",(G25+1))) -> 42369 | K25: =IF((I25=""),"",IF((MONTH((I25+1))<>MONTH($A$35)),"",(I25+1))) | M25: =IF((K25=""),"",IF((MONTH((K25+1))<>MONTH($A$35)),"",(K25+1)))
I27: Szilveszter
A30: =IF((M25=""),"",IF((MONTH((M25+1))<>MONTH($A$35)),"",(M25+1))) | C30: =IF((A30=""),"",IF((MONTH((A30+1))<>MONTH($A$35)),"",(A30+1))) | E30: Notes:
E34: © 2012-2014 Vertex42.com | I34: =HYPERLINK("http://www.vertex42.com/calendars/","Calendar Templates by Vertex42.com") -> Calendar Templates by Vertex42.com
A35: =DATE(YEAR(Jan!A35),12,1) -> 42339
